BEGIN:VCALENDAR
VERSION:2.0
PRODID:-//PENCE FINANCIAL GROUP - ECPv6.15.20//NONSGML v1.0//EN
CALSCALE:GREGORIAN
METHOD:PUBLISH
X-ORIGINAL-URL:https://pencefinancialgroup.com
X-WR-CALDESC:Events for PENCE FINANCIAL GROUP
REFRESH-INTERVAL;VALUE=DURATION:PT1H
X-Robots-Tag:noindex
X-PUBLISHED-TTL:PT1H
BEGIN:VTIMEZONE
TZID:America/New_York
BEGIN:DAYLIGHT
TZOFFSETFROM:-0500
TZOFFSETTO:-0400
TZNAME:EDT
DTSTART:20230312T070000
END:DAYLIGHT
BEGIN:STANDARD
TZOFFSETFROM:-0400
TZOFFSETTO:-0500
TZNAME:EST
DTSTART:20231105T060000
END:STANDARD
BEGIN:DAYLIGHT
TZOFFSETFROM:-0500
TZOFFSETTO:-0400
TZNAME:EDT
DTSTART:20240310T070000
END:DAYLIGHT
BEGIN:STANDARD
TZOFFSETFROM:-0400
TZOFFSETTO:-0500
TZNAME:EST
DTSTART:20241103T060000
END:STANDARD
BEGIN:DAYLIGHT
TZOFFSETFROM:-0500
TZOFFSETTO:-0400
TZNAME:EDT
DTSTART:20250309T070000
END:DAYLIGHT
BEGIN:STANDARD
TZOFFSETFROM:-0400
TZOFFSETTO:-0500
TZNAME:EST
DTSTART:20251102T060000
END:STANDARD
END:VTIMEZONE
BEGIN:VEVENT
DTSTART;TZID=America/New_York:20240413T090000
DTEND;TZID=America/New_York:20240413T120000
DTSTAMP:20260422T003535
CREATED:20240315T185253Z
LAST-MODIFIED:20240419T193346Z
UID:6206-1712998800-1713009600@pencefinancialgroup.com
SUMMARY:[Boca Raton\, FL] Money Matters 2024
DESCRIPTION:Understanding Market Shifts for Financial Stability \nDiscover how inflation\, skyrocketing interest rates\, market fluctuations\, and global conflicts will directly impact your savings\, financial strategies\, and retirement plans. \n\n\nJoin Dryden Pence\, the esteemed head of one of Forbes 2023 Top Registered Investment Advisory Firms1 and a prominent commentator on Fox Business\, Bloomberg\, and CNBC. In this insightful presentation\, gain crucial insight into: \n\n\n\n\n\n✓ Future actions of the Federal Reserve\n✓ Duration of high-interest rate trends\n✓ Projections for economic trajectory\n✓ Direct implications for your finances\n\n\n\n\n\nLearn how to leverage these insights to your advantage\, securing your savings and financial future amidst market turbulence. \nDon’t miss this opportunity to understand how market dynamics will shape your financial landscape in 2024. \nDate: Saturday\, April 13\, 2024 | Time: 9:00 AM\nCheck-in: 8:30 AM\nVenue: Boca Raton Marriott at Boca Center | 5150 Town Center\, Boca Raton\, FL 33486\nBreakfast will be served\nRSVP Deadline: Wednesday\, April 10\nRSVP Online: http://pence.financial/boca-pb/#rsvp\nRSVP by phone: (949) 523-3980 \n\n\n \n1The Forbes ranking of America’s Top RIA Firms 2023\, developed by SHOOK Research\, is based on an algorithm of qualitative criteria\, mostly gained through telephone\, virtual and in-person due diligence interviews\, and quantitative data. The algorithm weighs factors like revenue trends\, assets under management\, compliance records\, industry experience and those that encompass best practices and approach to working with clients. Portfolio performance is not a criterion due to varying client objectives and lack of audited data. Neither Forbes nor SHOOK receive a fee in exchange for rankings. \nThe financial professionals associated with PFG are registered with and offer securities and investment advisory services through LPL Financial\, member FINRA/SIPC and a registered investment adviser. \nThe opinions voiced in this material are for general information only and are not intended to provide specific advice or recommendations for any individual. Historical performance is no guarantee of future results. All indices are unmanaged and may not be invested into directly. The economic forecasts set forth may not develop as predicted and there can be no guarantee that strategies promoted will be successful. All investing involves risk including loss of principal. \nPence Financial Group does not provide legal and/or tax advice or services. Please consult your legal and/or tax advisor regarding your specific situation. The financial consultants of Pence Financial Group are registered representatives with\, and securities and advisory services offered through LPL Financial. A Registered Investment Advisor. Member FINRA/SIPC. LPL Financial\, Pence Financial Group\, and Pence Capital Management are separate entities. Wealth Management provided through LPL Financial. \nThe LPL registered representatives associated with this website may discuss and/or transact business only with residents of the states in which they are properly registered or licensed. No offers may be made or accepted from any resident of any other state.
URL:https://pencefinancialgroup.com/event/boca-raton-04-13-2024/
LOCATION:Boca Raton Marriott at Boca Center\, 5150 Town Center Circle\, Boca Raton\, FL\, 33486\, United States
CATEGORIES:Market Update & Economic Outlook
ATTACH;FMTTYPE=image/jpeg:https://pencefinancialgroup.com/wp-content/uploads/2024/03/468492183.jpg
END:VEVENT
END:VCALENDAR