BEGIN:VCALENDAR
VERSION:2.0
PRODID:-//PENCE FINANCIAL GROUP - ECPv6.15.20//NONSGML v1.0//EN
CALSCALE:GREGORIAN
METHOD:PUBLISH
X-ORIGINAL-URL:https://pencefinancialgroup.com
X-WR-CALDESC:Events for PENCE FINANCIAL GROUP
REFRESH-INTERVAL;VALUE=DURATION:PT1H
X-Robots-Tag:noindex
X-PUBLISHED-TTL:PT1H
BEGIN:VTIMEZONE
TZID:America/Los_Angeles
BEGIN:DAYLIGHT
TZOFFSETFROM:-0800
TZOFFSETTO:-0700
TZNAME:PDT
DTSTART:20230312T100000
END:DAYLIGHT
BEGIN:STANDARD
TZOFFSETFROM:-0700
TZOFFSETTO:-0800
TZNAME:PST
DTSTART:20231105T090000
END:STANDARD
BEGIN:DAYLIGHT
TZOFFSETFROM:-0800
TZOFFSETTO:-0700
TZNAME:PDT
DTSTART:20240310T100000
END:DAYLIGHT
BEGIN:STANDARD
TZOFFSETFROM:-0700
TZOFFSETTO:-0800
TZNAME:PST
DTSTART:20241103T090000
END:STANDARD
BEGIN:DAYLIGHT
TZOFFSETFROM:-0800
TZOFFSETTO:-0700
TZNAME:PDT
DTSTART:20250309T100000
END:DAYLIGHT
BEGIN:STANDARD
TZOFFSETFROM:-0700
TZOFFSETTO:-0800
TZNAME:PST
DTSTART:20251102T090000
END:STANDARD
END:VTIMEZONE
BEGIN:VEVENT
DTSTART;TZID=America/Los_Angeles:20241009T180000
DTEND;TZID=America/Los_Angeles:20241009T200000
DTSTAMP:20260421T172109
CREATED:20240906T195953Z
LAST-MODIFIED:20240906T195953Z
UID:7295-1728496800-1728504000@pencefinancialgroup.com
SUMMARY:[Lancaster] Money Matters 2024
DESCRIPTION:Understanding Market Shifts for Financial Stability \n\nDiscover how inflation\, skyrocketing interest rates\, market fluctuations\, and global conflicts will directly impact your savings\, financial strategies\, and retirement plans.\n\n\n\nJoin Dryden Pence\, the esteemed head of one of Forbes 2023 Top Registered Investment Advisory Firms1 and a prominent commentator on Fox Business\, Bloomberg\, and CNBC. In this insightful presentation\, gain crucial insight into: \n\n\n\n\n\n✓ Future actions of the Federal Reserve\n✓ Duration of high-interest rate trends\n✓ Projections for economic trajectory\n✓ Direct implications for your finances\n\n\n\n\n\nLearn how to leverage these insights to your advantage\, securing your savings and financial future amidst market turbulence. \nPence Wealth Management: The Forbes ranking of America’s Top RIA Firms 2023\, developed by SHOOK Research\, is based on an algorithm of qualitative criteria\, mostly gained through telephone\, virtual and in-person due diligence interviews\, and quantitative data. The algorithm weighs factors like revenue trends\, assets under management\, compliance records\, industry experience and those that encompass best practices and approach to working with clients. Portfolio performance is not a criterion due to varying client objectives and lack of audited data. Neither Forbes nor SHOOK receive a fee in exchange for rankings. \nDon’t miss this opportunity to understand how market dynamics will shape your financial landscape in 2024. \nComplimentary dinner will be served. \nDate: Wednesday\, October 9\, 2024\nTime: 6:00 PM\nCheck-in: 5:30 PM\nVenue: Embassy Suites by Hilton Palmdale\n39375 5th St. West\nPalmdale\, CA 93551\nRSVP Deadline: Thursday\, October 3\nRSVP Online: http://pence.financial/lancaster-pb\nRSVP By Phone: (661) 453-8610
URL:https://pencefinancialgroup.com/event/lancaster-money-matters-2024/
LOCATION:Embassy Suites by Hilton Palmdale\, 39375 5th St. West\, Palmdale\, CA\, 93551\, United States
CATEGORIES:Market Update & Economic Outlook
ATTACH;FMTTYPE=image/png:https://pencefinancialgroup.com/wp-content/uploads/2024/09/Embassy-Suites-Lancaster-CA.png
END:VEVENT
END:VCALENDAR